BEGIN:VCALENDAR
VERSION:2.0
PRODID:-//Plone.org//NONSGML plone.app.event//EN
X-WR-TIMEZONE:Europe/Berlin
BEGIN:VEVENT
SUMMARY:ALIENI - flora e fauna venuti da lontano
DTSTART;TZID=Europe/Berlin;VALUE=DATE-TIME:20200522T090000
DTEND;TZID=Europe/Berlin;VALUE=DATE-TIME:20201127T100000
DTSTAMP;VALUE=DATE-TIME:20260419T220753Z
UID:4fbe71c1497c45baab160a1eaa4daa0f@www.isprambiente.gov.it
CONTACT:http://musmed.provincia.livorno.it/service/newsservice/dettaglio/n
 ews/prossimamente-1/?tx_news_pi1%5Bcontroller%5D=News&tx_news_pi1%5Baction
 %5D=detail&cHash=28b09f8f2e2e13f7a8f13242ce3e267d
CREATED;VALUE=DATE-TIME:20200527T073947Z
LAST-MODIFIED;VALUE=DATE-TIME:20230120T133405Z
URL:https://www.isprambiente.gov.it/it/attivita/museo/calendario-eventi/20
 20/alieni-flora-e-fauna-venuti-da-lontano-1
END:VEVENT
BEGIN:VTIMEZONE
TZID:Europe/Berlin
X-LIC-LOCATION:Europe/Berlin
BEGIN:DAYLIGHT
DTSTART;VALUE=DATE-TIME:20200329T030000
TZNAME:CEST
TZOFFSETFROM:+0100
TZOFFSETTO:+0200
END:DAYLIGHT
BEGIN:STANDARD
DTSTART;VALUE=DATE-TIME:20201025T020000
TZNAME:CET
TZOFFSETFROM:+0200
TZOFFSETTO:+0100
END:STANDARD
END:VTIMEZONE
END:VCALENDAR
