BEGIN:VCALENDAR
VERSION:2.0
PRODID:-//Plone.org//NONSGML plone.app.event//EN
X-WR-TIMEZONE:Europe/Berlin
BEGIN:VEVENT
SUMMARY:ALL’OMBRA DEL VULCANO: FIUMI\, ELEFANTI E UOMINI
DTSTART;TZID=Europe/Berlin;VALUE=DATE-TIME:20201006T090000
DTEND;TZID=Europe/Berlin;VALUE=DATE-TIME:20201011T100000
DTSTAMP;VALUE=DATE-TIME:20260419T221625Z
UID:25f53269ea45430891b3d0fdef1f77cc@www.isprambiente.gov.it
CONTACT:https://www.settimanaterra.org/node/4214
CREATED;VALUE=DATE-TIME:20200930T074924Z
LAST-MODIFIED;VALUE=DATE-TIME:20230120T133415Z
URL:https://www.isprambiente.gov.it/it/attivita/museo/calendario-eventi/20
 20/all2019ombra-del-vulcano-fiumi-elefanti-e-uomini
END:VEVENT
BEGIN:VTIMEZONE
TZID:Europe/Berlin
X-LIC-LOCATION:Europe/Berlin
BEGIN:DAYLIGHT
DTSTART;VALUE=DATE-TIME:20200329T030000
TZNAME:CEST
TZOFFSETFROM:+0100
TZOFFSETTO:+0200
END:DAYLIGHT
END:VTIMEZONE
END:VCALENDAR
