BEGIN:VCALENDAR
VERSION:2.0
PRODID:-//Plone.org//NONSGML plone.app.event//EN
X-WR-TIMEZONE:Europe/Berlin
BEGIN:VEVENT
SUMMARY:ALLA RICERCA DEI CETACEI: UN VIAGGIO VIRTUALE NEL MARE DI 1.8 MILI
 ONI DI ANNI FA - IN SEARCH OF CETACEANS: A VIRTUAL JOURNEY INTO THE SEA OF
  1.8 MILLION YEARS AGO
DTSTART;TZID=Europe/Berlin;VALUE=DATE-TIME:20201005T100000
DTEND;TZID=Europe/Berlin;VALUE=DATE-TIME:20201011T110000
DTSTAMP;VALUE=DATE-TIME:20260419T221931Z
UID:70e930022df641e283747754e3614744@www.isprambiente.gov.it
CONTACT:https://www.settimanaterra.org/node/4186
CREATED;VALUE=DATE-TIME:20200930T080901Z
LAST-MODIFIED;VALUE=DATE-TIME:20230120T133415Z
URL:https://www.isprambiente.gov.it/it/attivita/museo/calendario-eventi/20
 20/alla-ricerca-dei-cetacei-un-viaggio-virtuale-nel-mare-di-1-8-milioni-di
 -anni-fa-in-search-of-cetaceans-a-virtual-journey-into-the-sea-of-1-8-mill
 ion-years-ago
END:VEVENT
BEGIN:VTIMEZONE
TZID:Europe/Berlin
X-LIC-LOCATION:Europe/Berlin
BEGIN:DAYLIGHT
DTSTART;VALUE=DATE-TIME:20200329T030000
TZNAME:CEST
TZOFFSETFROM:+0100
TZOFFSETTO:+0200
END:DAYLIGHT
END:VTIMEZONE
END:VCALENDAR
