BEGIN:VCALENDAR
VERSION:2.0
PRODID:-//Plone.org//NONSGML plone.app.event//EN
X-WR-TIMEZONE:Europe/Berlin
BEGIN:VEVENT
SUMMARY:Apertura Grotta delle Meraviglie
DTSTART;TZID=Europe/Berlin;VALUE=DATE-TIME:20200809T180000
DTEND;TZID=Europe/Berlin;VALUE=DATE-TIME:20200906T190000
DTSTAMP;VALUE=DATE-TIME:20260419T234428Z
UID:0d09e3274d75409aa33363361afced43@www.isprambiente.gov.it
CONTACT:https://zognoturismo.it/it/grotte-delle-meraviglie/
CREATED;VALUE=DATE-TIME:20200809T164829Z
LAST-MODIFIED;VALUE=DATE-TIME:20230120T133415Z
URL:https://www.isprambiente.gov.it/it/attivita/museo/calendario-eventi/20
 20/apertura-grotta-delle-meraviglie
END:VEVENT
BEGIN:VTIMEZONE
TZID:Europe/Berlin
X-LIC-LOCATION:Europe/Berlin
BEGIN:DAYLIGHT
DTSTART;VALUE=DATE-TIME:20200329T030000
TZNAME:CEST
TZOFFSETFROM:+0100
TZOFFSETTO:+0200
END:DAYLIGHT
END:VTIMEZONE
END:VCALENDAR
