BEGIN:VCALENDAR
VERSION:2.0
PRODID:-//Plone.org//NONSGML plone.app.event//EN
X-WR-TIMEZONE:Europe/Berlin
BEGIN:VEVENT
SUMMARY:Apre la mostra “Le meraviglie del mondo sotterraneo” ad Ampezz
 o
DTSTART;TZID=Europe/Berlin;VALUE=DATE-TIME:20200620T100000
DTEND;TZID=Europe/Berlin;VALUE=DATE-TIME:20200930T110000
DTSTAMP;VALUE=DATE-TIME:20260419T203054Z
UID:061c4036cc8f47f7b5d37ed16e8ef2f1@www.isprambiente.gov.it
CONTACT:https://www.geoparcoalpicarniche.org/it/2020/06/16/apre-la-mostra-
 le-meraviglie-del-mondo-sotterraneo-ad-ampezzo/
CREATED;VALUE=DATE-TIME:20200803T082019Z
LAST-MODIFIED;VALUE=DATE-TIME:20230120T133415Z
URL:https://www.isprambiente.gov.it/it/attivita/museo/calendario-eventi/20
 20/apre-la-mostra-201cle-meraviglie-del-mondo-sotterraneo201d-ad-ampezzo-1
END:VEVENT
BEGIN:VTIMEZONE
TZID:Europe/Berlin
X-LIC-LOCATION:Europe/Berlin
BEGIN:DAYLIGHT
DTSTART;VALUE=DATE-TIME:20200329T030000
TZNAME:CEST
TZOFFSETFROM:+0100
TZOFFSETTO:+0200
END:DAYLIGHT
END:VTIMEZONE
END:VCALENDAR
