BEGIN:VCALENDAR
VERSION:2.0
PRODID:-//Plone.org//NONSGML plone.app.event//EN
X-WR-TIMEZONE:Europe/Berlin
BEGIN:VEVENT
SUMMARY:Apre la mostra “Le meraviglie del mondo sotterraneo” ad Ampezz
 o
DTSTART;TZID=Europe/Berlin;VALUE=DATE-TIME:20200620T090000
DTEND;TZID=Europe/Berlin;VALUE=DATE-TIME:20200930T100000
DTSTAMP;VALUE=DATE-TIME:20260419T234612Z
UID:deed36a8ee8e45f5aae92d1cb9493bdb@www.isprambiente.gov.it
CREATED;VALUE=DATE-TIME:20200702T073310Z
LAST-MODIFIED;VALUE=DATE-TIME:20230120T133415Z
URL:https://www.isprambiente.gov.it/it/attivita/museo/calendario-eventi/20
 20/apre-la-mostra-201cle-meraviglie-del-mondo-sotterraneo201d-ad-ampezzo
END:VEVENT
BEGIN:VTIMEZONE
TZID:Europe/Berlin
X-LIC-LOCATION:Europe/Berlin
BEGIN:DAYLIGHT
DTSTART;VALUE=DATE-TIME:20200329T030000
TZNAME:CEST
TZOFFSETFROM:+0100
TZOFFSETTO:+0200
END:DAYLIGHT
END:VTIMEZONE
END:VCALENDAR
