BEGIN:VCALENDAR
VERSION:2.0
PRODID:-//Plone.org//NONSGML plone.app.event//EN
X-WR-TIMEZONE:Europe/Berlin
BEGIN:VEVENT
SUMMARY:Archeologia e Scienze sotto i riflettori - Agosto
DTSTART;TZID=Europe/Berlin;VALUE=DATE-TIME:20200801T100000
DTEND;TZID=Europe/Berlin;VALUE=DATE-TIME:20200831T110000
DTSTAMP;VALUE=DATE-TIME:20260419T221625Z
UID:2fc0029348144afbbc4165877519f024@www.isprambiente.gov.it
CONTACT:http://www.museoscienzebergamo.it/web/index.php?option=com_content
 &view=article&id=777:archeologia-e-scienze-sotto-i-riflettori-agosto&catid
 =110:2020&Itemid=145
CREATED;VALUE=DATE-TIME:20200803T083136Z
LAST-MODIFIED;VALUE=DATE-TIME:20230120T133415Z
URL:https://www.isprambiente.gov.it/it/attivita/museo/calendario-eventi/20
 20/archeologia-e-scienze-sotto-i-riflettori-agosto
END:VEVENT
BEGIN:VTIMEZONE
TZID:Europe/Berlin
X-LIC-LOCATION:Europe/Berlin
BEGIN:DAYLIGHT
DTSTART;VALUE=DATE-TIME:20200329T030000
TZNAME:CEST
TZOFFSETFROM:+0100
TZOFFSETTO:+0200
END:DAYLIGHT
END:VTIMEZONE
END:VCALENDAR
