BEGIN:VCALENDAR
VERSION:2.0
PRODID:-//Plone.org//NONSGML plone.app.event//EN
X-WR-TIMEZONE:Europe/Berlin
BEGIN:VEVENT
SUMMARY:AUTUNNO 2020 AL PARCO MUSEO MINERARIO
DTSTART;TZID=Europe/Berlin;VALUE=DATE-TIME:20201101T090000
DTEND;TZID=Europe/Berlin;VALUE=DATE-TIME:20201101T100000
DTSTAMP;VALUE=DATE-TIME:20260419T220103Z
UID:d157bf652a664c8b80d0fb1c3f434c87@www.isprambiente.gov.it
CONTACT:http://www.museominerario.it/2018/autunno-2020-al-parco-museo-mine
 rario/
CREATED;VALUE=DATE-TIME:20201103T083731Z
LAST-MODIFIED;VALUE=DATE-TIME:20230120T134345Z
URL:https://www.isprambiente.gov.it/it/attivita/museo/calendario-eventi/20
 20/autunno-2020-al-parco-museo-minerario
END:VEVENT
BEGIN:VTIMEZONE
TZID:Europe/Berlin
X-LIC-LOCATION:Europe/Berlin
BEGIN:STANDARD
DTSTART;VALUE=DATE-TIME:20201025T020000
TZNAME:CET
TZOFFSETFROM:+0200
TZOFFSETTO:+0100
END:STANDARD
END:VTIMEZONE
END:VCALENDAR
