BEGIN:VCALENDAR
VERSION:2.0
PRODID:-//Plone.org//NONSGML plone.app.event//EN
X-WR-TIMEZONE:Europe/Berlin
BEGIN:VEVENT
SUMMARY:Autunno in Miniera – Brusson
DTSTART;TZID=Europe/Berlin;VALUE=DATE-TIME:20201108T090000
DTEND;TZID=Europe/Berlin;VALUE=DATE-TIME:20201108T100000
DTSTAMP;VALUE=DATE-TIME:20260419T202825Z
UID:d362aba5529749c2a9d435a1dd92e362@www.isprambiente.gov.it
CONTACT:https://www.chamousira.it/miniera-brusson/autunno-in-miniera-bruss
 on/
CREATED;VALUE=DATE-TIME:20201103T083305Z
LAST-MODIFIED;VALUE=DATE-TIME:20230120T134345Z
URL:https://www.isprambiente.gov.it/it/attivita/museo/calendario-eventi/20
 20/autunno-in-miniera-2013-brusson
END:VEVENT
BEGIN:VTIMEZONE
TZID:Europe/Berlin
X-LIC-LOCATION:Europe/Berlin
BEGIN:STANDARD
DTSTART;VALUE=DATE-TIME:20201025T020000
TZNAME:CET
TZOFFSETFROM:+0200
TZOFFSETTO:+0100
END:STANDARD
END:VTIMEZONE
END:VCALENDAR
