BEGIN:VCALENDAR
VERSION:2.0
PRODID:-//Plone.org//NONSGML plone.app.event//EN
X-WR-TIMEZONE:Europe/Berlin
BEGIN:VEVENT
SUMMARY: Benvenuti nell’Era glaciale come i vertebrati ci aiutano a rico
 struire gli ambienti del passato
DTSTART;TZID=Europe/Berlin;VALUE=DATE-TIME:20230112T160000
DTEND;TZID=Europe/Berlin;VALUE=DATE-TIME:20230112T170000
DTSTAMP;VALUE=DATE-TIME:20260419T234722Z
UID:2298e084ee7a452c937e1cf41e4e4909@www.isprambiente.gov.it
CREATED;VALUE=DATE-TIME:20200214T101750Z
LAST-MODIFIED;VALUE=DATE-TIME:20230120T133405Z
URL:https://www.isprambiente.gov.it/it/attivita/museo/calendario-eventi/20
 20/benvenuti-nell2019era-glaciale-come-i-vertebrati-ci-aiutano-a-ricostrui
 re-gli-ambienti-del-passato
END:VEVENT
BEGIN:VTIMEZONE
TZID:Europe/Berlin
X-LIC-LOCATION:Europe/Berlin
BEGIN:STANDARD
DTSTART;VALUE=DATE-TIME:20221030T020000
TZNAME:CET
TZOFFSETFROM:+0200
TZOFFSETTO:+0100
END:STANDARD
END:VTIMEZONE
END:VCALENDAR
