BEGIN:VCALENDAR
VERSION:2.0
PRODID:-//Plone.org//NONSGML plone.app.event//EN
X-WR-TIMEZONE:Europe/Berlin
BEGIN:VEVENT
SUMMARY:Caccia al fossile
DTSTART;TZID=Europe/Berlin;VALUE=DATE-TIME:20201107T100000
DTEND;TZID=Europe/Berlin;VALUE=DATE-TIME:20201107T110000
DTSTAMP;VALUE=DATE-TIME:20260419T221422Z
UID:257ccdef7ee84191b94f7431596cd4ae@www.isprambiente.gov.it
CONTACT:https://www.admaiora.education/it/mostre-ed-eventi/museo-di-storia
 -naturale-di-pavia/famiglie-e-bambini/caccia-al-fossile
CREATED;VALUE=DATE-TIME:20201028T090533Z
LAST-MODIFIED;VALUE=DATE-TIME:20230120T134345Z
URL:https://www.isprambiente.gov.it/it/attivita/museo/calendario-eventi/20
 20/caccia-al-fossile
END:VEVENT
BEGIN:VTIMEZONE
TZID:Europe/Berlin
X-LIC-LOCATION:Europe/Berlin
BEGIN:STANDARD
DTSTART;VALUE=DATE-TIME:20201025T020000
TZNAME:CET
TZOFFSETFROM:+0200
TZOFFSETTO:+0100
END:STANDARD
END:VTIMEZONE
END:VCALENDAR
