BEGIN:VCALENDAR
VERSION:2.0
PRODID:-//Plone.org//NONSGML plone.app.event//EN
X-WR-TIMEZONE:Europe/Berlin
BEGIN:VEVENT
SUMMARY:Campi settembrini 2020 – S-Passo al Museo
DTSTART;TZID=Europe/Berlin;VALUE=DATE-TIME:20200824T090000
DTEND;TZID=Europe/Berlin;VALUE=DATE-TIME:20200911T100000
DTSTAMP;VALUE=DATE-TIME:20260419T234313Z
UID:59897af0f9674252b2ecdfb85057e9eb@www.isprambiente.gov.it
CONTACT:http://www.museopaleontologicomontevarchi.it/2020/07/25/campi-sett
 embrini-2020-s-passo-al-museo/
CREATED;VALUE=DATE-TIME:20200909T072921Z
LAST-MODIFIED;VALUE=DATE-TIME:20230120T133415Z
URL:https://www.isprambiente.gov.it/it/attivita/museo/calendario-eventi/20
 20/campi-settembrini-2020-2013-s-passo-al-museo
END:VEVENT
BEGIN:VTIMEZONE
TZID:Europe/Berlin
X-LIC-LOCATION:Europe/Berlin
BEGIN:DAYLIGHT
DTSTART;VALUE=DATE-TIME:20200329T030000
TZNAME:CEST
TZOFFSETFROM:+0100
TZOFFSETTO:+0200
END:DAYLIGHT
END:VTIMEZONE
END:VCALENDAR
