BEGIN:VCALENDAR
VERSION:2.0
PRODID:-//Plone.org//NONSGML plone.app.event//EN
X-WR-TIMEZONE:Europe/Berlin
BEGIN:VEVENT
SUMMARY:CICLOVIA DELLE AREE INTERNE: PASSAGGIO NELLE TERRE DELLO ZOLFO
DTSTART;TZID=Europe/Berlin;VALUE=DATE-TIME:20201011T090000
DTEND;TZID=Europe/Berlin;VALUE=DATE-TIME:20201011T100000
DTSTAMP;VALUE=DATE-TIME:20260419T220102Z
UID:29c418642f0847ffaf5c9236defd3a6c@www.isprambiente.gov.it
CONTACT:https://www.settimanaterra.org/node/4188
CREATED;VALUE=DATE-TIME:20200930T075719Z
LAST-MODIFIED;VALUE=DATE-TIME:20230120T133415Z
URL:https://www.isprambiente.gov.it/it/attivita/museo/calendario-eventi/20
 20/ciclovia-delle-aree-interne-passaggio-nelle-terre-dello-zolfo
END:VEVENT
BEGIN:VTIMEZONE
TZID:Europe/Berlin
X-LIC-LOCATION:Europe/Berlin
BEGIN:DAYLIGHT
DTSTART;VALUE=DATE-TIME:20200329T030000
TZNAME:CEST
TZOFFSETFROM:+0100
TZOFFSETTO:+0200
END:DAYLIGHT
END:VTIMEZONE
END:VCALENDAR
