BEGIN:VCALENDAR
VERSION:2.0
PRODID:-//Plone.org//NONSGML plone.app.event//EN
X-WR-TIMEZONE:Europe/Berlin
BEGIN:VEVENT
SUMMARY:Cinema in Miniera
DTSTART;TZID=Europe/Berlin;VALUE=DATE-TIME:20200807T180000
DTEND;TZID=Europe/Berlin;VALUE=DATE-TIME:20200809T190000
DTSTAMP;VALUE=DATE-TIME:20260419T215928Z
UID:4042f07b1ce143d5b0c541bcca352f14@www.isprambiente.gov.it
CREATED;VALUE=DATE-TIME:20200809T165010Z
LAST-MODIFIED;VALUE=DATE-TIME:20230120T133415Z
URL:https://www.isprambiente.gov.it/it/attivita/museo/calendario-eventi/20
 20/cinema-in-miniera
END:VEVENT
BEGIN:VTIMEZONE
TZID:Europe/Berlin
X-LIC-LOCATION:Europe/Berlin
BEGIN:DAYLIGHT
DTSTART;VALUE=DATE-TIME:20200329T030000
TZNAME:CEST
TZOFFSETFROM:+0100
TZOFFSETTO:+0200
END:DAYLIGHT
END:VTIMEZONE
END:VCALENDAR
