BEGIN:VCALENDAR
VERSION:2.0
PRODID:-//Plone.org//NONSGML plone.app.event//EN
X-WR-TIMEZONE:Europe/Berlin
BEGIN:VEVENT
SUMMARY:Corso online “Preparare i beni culturali alle emergenze”
DTSTART;TZID=Europe/Berlin;VALUE=DATE-TIME:20201019T090000
DTEND;TZID=Europe/Berlin;VALUE=DATE-TIME:20201023T100000
DTSTAMP;VALUE=DATE-TIME:20260419T220920Z
UID:12aa9e8b22bc4c4c969bf8626902337a@www.isprambiente.gov.it
CONTACT:http://www.icom-italia.org/icom-marche-corso-online-preparare-i-be
 ni-culturali-alle-emergenze/
CREATED;VALUE=DATE-TIME:20201019T074232Z
LAST-MODIFIED;VALUE=DATE-TIME:20230120T133415Z
URL:https://www.isprambiente.gov.it/it/attivita/museo/calendario-eventi/20
 20/corso-online-201cpreparare-i-beni-culturali-alle-emergenze201d
END:VEVENT
BEGIN:VTIMEZONE
TZID:Europe/Berlin
X-LIC-LOCATION:Europe/Berlin
BEGIN:DAYLIGHT
DTSTART;VALUE=DATE-TIME:20200329T030000
TZNAME:CEST
TZOFFSETFROM:+0100
TZOFFSETTO:+0200
END:DAYLIGHT
END:VTIMEZONE
END:VCALENDAR
