BEGIN:VCALENDAR
VERSION:2.0
PRODID:-//Plone.org//NONSGML plone.app.event//EN
X-WR-TIMEZONE:Europe/Berlin
BEGIN:VEVENT
SUMMARY:DA VETAN AL PLAN DI MODZON NEL TERRITORIO DI CACCIA DELL’UOMO DI
  8000 ANNI FA
DTSTART;TZID=Europe/Berlin;VALUE=DATE-TIME:20201004T100000
DTEND;TZID=Europe/Berlin;VALUE=DATE-TIME:20201004T110000
DTSTAMP;VALUE=DATE-TIME:20260419T234613Z
UID:414c93d0926d4ac993164c3edd76168e@www.isprambiente.gov.it
CONTACT:https://www.settimanaterra.org/node/4113
CREATED;VALUE=DATE-TIME:20200930T080420Z
LAST-MODIFIED;VALUE=DATE-TIME:20230120T133415Z
URL:https://www.isprambiente.gov.it/it/attivita/museo/calendario-eventi/20
 20/da-vetan-al-plan-di-modzon-nel-territorio-di-caccia-dell2019uomo-di-800
 0-anni-fa
END:VEVENT
BEGIN:VTIMEZONE
TZID:Europe/Berlin
X-LIC-LOCATION:Europe/Berlin
BEGIN:DAYLIGHT
DTSTART;VALUE=DATE-TIME:20200329T030000
TZNAME:CEST
TZOFFSETFROM:+0100
TZOFFSETTO:+0200
END:DAYLIGHT
END:VTIMEZONE
END:VCALENDAR
