BEGIN:VCALENDAR
VERSION:2.0
PRODID:-//Plone.org//NONSGML plone.app.event//EN
X-WR-TIMEZONE:Europe/Berlin
BEGIN:VEVENT
SUMMARY:Dall'estrazione di idrocarburi allo sfruttamento minerario dei fon
 dali marini: nuove tecnologie e problemi emergenti
DTSTART;TZID=Europe/Berlin;VALUE=DATE-TIME:20201118T110000
DTEND;TZID=Europe/Berlin;VALUE=DATE-TIME:20201119T120000
DTSTAMP;VALUE=DATE-TIME:20260419T221824Z
UID:253e0bba33574b6eab33768202d6d93f@www.isprambiente.gov.it
CONTACT:https://www.cnr.it/it/evento/16923
CREATED;VALUE=DATE-TIME:20201020T095511Z
LAST-MODIFIED;VALUE=DATE-TIME:20230120T133416Z
URL:https://www.isprambiente.gov.it/it/attivita/museo/calendario-eventi/20
 20/dallestrazione-di-idrocarburi-allo-sfruttamento-minerario-dei-fondali-m
 arini-nuove-tecnologie-e-problemi-emergenti
END:VEVENT
BEGIN:VTIMEZONE
TZID:Europe/Berlin
X-LIC-LOCATION:Europe/Berlin
BEGIN:STANDARD
DTSTART;VALUE=DATE-TIME:20201025T020000
TZNAME:CET
TZOFFSETFROM:+0200
TZOFFSETTO:+0100
END:STANDARD
END:VTIMEZONE
END:VCALENDAR
