BEGIN:VCALENDAR
VERSION:2.0
PRODID:-//Plone.org//NONSGML plone.app.event//EN
X-WR-TIMEZONE:Europe/Berlin
BEGIN:VEVENT
SUMMARY:DIECI FIGURE FEMMINILI DELLA ZOOLOGIA ITALIANA DEL XX SECOLO
DTSTART;TZID=Europe/Berlin;VALUE=DATE-TIME:20200718T090000
DTEND;TZID=Europe/Berlin;VALUE=DATE-TIME:20200718T100000
DTSTAMP;VALUE=DATE-TIME:20260419T221824Z
UID:7de1a035229c42a99295570a9b0780b6@www.isprambiente.gov.it
CREATED;VALUE=DATE-TIME:20200717T073437Z
LAST-MODIFIED;VALUE=DATE-TIME:20230120T133415Z
URL:https://www.isprambiente.gov.it/it/attivita/museo/calendario-eventi/20
 20/dieci-figure-femminili-della-zoologia-italiana-del-xx-secolo
END:VEVENT
BEGIN:VTIMEZONE
TZID:Europe/Berlin
X-LIC-LOCATION:Europe/Berlin
BEGIN:DAYLIGHT
DTSTART;VALUE=DATE-TIME:20200329T030000
TZNAME:CEST
TZOFFSETFROM:+0100
TZOFFSETTO:+0200
END:DAYLIGHT
END:VTIMEZONE
END:VCALENDAR
