BEGIN:VCALENDAR
VERSION:2.0
PRODID:-//Plone.org//NONSGML plone.app.event//EN
X-WR-TIMEZONE:Europe/Berlin
BEGIN:VEVENT
SUMMARY:Dinosauri a Lanuvio
DTSTART;TZID=Europe/Berlin;VALUE=DATE-TIME:20200530T170000
DTEND;TZID=Europe/Berlin;VALUE=DATE-TIME:20201231T180000
DTSTAMP;VALUE=DATE-TIME:20260419T202610Z
UID:490437bb033547cea79e5e27635a575b@www.isprambiente.gov.it
CREATED;VALUE=DATE-TIME:20200625T153451Z
LAST-MODIFIED;VALUE=DATE-TIME:20230120T133415Z
URL:https://www.isprambiente.gov.it/it/attivita/museo/calendario-eventi/20
 20/dinosauri-a-lanuvio
END:VEVENT
BEGIN:VTIMEZONE
TZID:Europe/Berlin
X-LIC-LOCATION:Europe/Berlin
BEGIN:DAYLIGHT
DTSTART;VALUE=DATE-TIME:20200329T030000
TZNAME:CEST
TZOFFSETFROM:+0100
TZOFFSETTO:+0200
END:DAYLIGHT
BEGIN:STANDARD
DTSTART;VALUE=DATE-TIME:20201025T020000
TZNAME:CET
TZOFFSETFROM:+0200
TZOFFSETTO:+0100
END:STANDARD
END:VTIMEZONE
END:VCALENDAR
