BEGIN:VCALENDAR
VERSION:2.0
PRODID:-//Plone.org//NONSGML plone.app.event//EN
X-WR-TIMEZONE:Europe/Berlin
BEGIN:VEVENT
SUMMARY:Dinosauri in carne e ossa
DTSTART;TZID=Europe/Berlin;VALUE=DATE-TIME:20200530T080000
DTEND;TZID=Europe/Berlin;VALUE=DATE-TIME:20200927T090000
DTSTAMP;VALUE=DATE-TIME:20260419T202610Z
UID:377800c89bde493ba1104cbffb7dc9b2@www.isprambiente.gov.it
CONTACT:https://www.paleoappi.it/dinosauri-in-carne-e-ossa/
CREATED;VALUE=DATE-TIME:20200525T062522Z
LAST-MODIFIED;VALUE=DATE-TIME:20230120T133405Z
URL:https://www.isprambiente.gov.it/it/attivita/museo/calendario-eventi/20
 20/dinosauri-in-carne-e-ossa
END:VEVENT
BEGIN:VTIMEZONE
TZID:Europe/Berlin
X-LIC-LOCATION:Europe/Berlin
BEGIN:DAYLIGHT
DTSTART;VALUE=DATE-TIME:20200329T030000
TZNAME:CEST
TZOFFSETFROM:+0100
TZOFFSETTO:+0200
END:DAYLIGHT
END:VTIMEZONE
END:VCALENDAR
