BEGIN:VCALENDAR
VERSION:2.0
PRODID:-//Plone.org//NONSGML plone.app.event//EN
X-WR-TIMEZONE:Europe/Berlin
BEGIN:VEVENT
SUMMARY:Donne Fiere: Trilogia Infernale alla Miniera di Gambatesa
DTSTART;TZID=Europe/Berlin;VALUE=DATE-TIME:20200810T180000
DTEND;TZID=Europe/Berlin;VALUE=DATE-TIME:20200810T190000
DTSTAMP;VALUE=DATE-TIME:20260419T221809Z
UID:70fdfe16f901438e8256cc054400e568@www.isprambiente.gov.it
CONTACT:http://minieradigambatesa.com/eventi-ed-iniziative/
CREATED;VALUE=DATE-TIME:20200809T170022Z
LAST-MODIFIED;VALUE=DATE-TIME:20230120T133415Z
URL:https://www.isprambiente.gov.it/it/attivita/museo/calendario-eventi/20
 20/donne-fiere-trilogia-infernale-alla-miniera-di-gambatesa
END:VEVENT
BEGIN:VTIMEZONE
TZID:Europe/Berlin
X-LIC-LOCATION:Europe/Berlin
BEGIN:DAYLIGHT
DTSTART;VALUE=DATE-TIME:20200329T030000
TZNAME:CEST
TZOFFSETFROM:+0100
TZOFFSETTO:+0200
END:DAYLIGHT
END:VTIMEZONE
END:VCALENDAR
