BEGIN:VCALENDAR
VERSION:2.0
PRODID:-//Plone.org//NONSGML plone.app.event//EN
X-WR-TIMEZONE:Europe/Berlin
BEGIN:VEVENT
SUMMARY:Endangered Pieces di Jono Nussbaum
DTSTART;TZID=Europe/Berlin;VALUE=DATE-TIME:20200918T090000
DTEND;TZID=Europe/Berlin;VALUE=DATE-TIME:20201014T100000
DTSTAMP;VALUE=DATE-TIME:20260419T221422Z
UID:62776c8db8074009804dc31a00e8f13f@www.isprambiente.gov.it
CONTACT:http://www.anms.it/eventi/dettaglio_evento/4476
CREATED;VALUE=DATE-TIME:20200921T075008Z
LAST-MODIFIED;VALUE=DATE-TIME:20230120T133415Z
URL:https://www.isprambiente.gov.it/it/attivita/museo/calendario-eventi/20
 20/endangered-pieces-di-jono-nussbaum
END:VEVENT
BEGIN:VTIMEZONE
TZID:Europe/Berlin
X-LIC-LOCATION:Europe/Berlin
BEGIN:DAYLIGHT
DTSTART;VALUE=DATE-TIME:20200329T030000
TZNAME:CEST
TZOFFSETFROM:+0100
TZOFFSETTO:+0200
END:DAYLIGHT
END:VTIMEZONE
END:VCALENDAR
