BEGIN:VCALENDAR
VERSION:2.0
PRODID:-//Plone.org//NONSGML plone.app.event//EN
X-WR-TIMEZONE:Europe/Berlin
BEGIN:VEVENT
SUMMARY:ENERGIA GREEN SOTTO I NOSTRI PIEDI
DTSTART;TZID=Europe/Berlin;VALUE=DATE-TIME:20200924T090000
DTEND;TZID=Europe/Berlin;VALUE=DATE-TIME:20200924T100000
DTSTAMP;VALUE=DATE-TIME:20260419T220308Z
UID:6eea58f37eb2490789845f5975d24413@www.isprambiente.gov.it
CONTACT:https://www.musei.unipd.it/it/museo-geologia-paleontologia-energia
 -green-sotto-nostri-piedi
CREATED;VALUE=DATE-TIME:20200921T075150Z
LAST-MODIFIED;VALUE=DATE-TIME:20230120T133415Z
URL:https://www.isprambiente.gov.it/it/attivita/museo/calendario-eventi/20
 20/energia-green-sotto-i-nostri-piedi
END:VEVENT
BEGIN:VTIMEZONE
TZID:Europe/Berlin
X-LIC-LOCATION:Europe/Berlin
BEGIN:DAYLIGHT
DTSTART;VALUE=DATE-TIME:20200329T030000
TZNAME:CEST
TZOFFSETFROM:+0100
TZOFFSETTO:+0200
END:DAYLIGHT
END:VTIMEZONE
END:VCALENDAR
