BEGIN:VCALENDAR
VERSION:2.0
PRODID:-//Plone.org//NONSGML plone.app.event//EN
X-WR-TIMEZONE:Europe/Berlin
BEGIN:VEVENT
SUMMARY:Escursione a Grottadoggi e visita al Mum
DTSTART;TZID=Europe/Berlin;VALUE=DATE-TIME:20200809T180000
DTEND;TZID=Europe/Berlin;VALUE=DATE-TIME:20201028T190000
DTSTAMP;VALUE=DATE-TIME:20260419T234428Z
UID:0ae0a1b95412423999fc7e238293fac3@www.isprambiente.gov.it
CREATED;VALUE=DATE-TIME:20200809T164656Z
LAST-MODIFIED;VALUE=DATE-TIME:20230120T133415Z
URL:https://www.isprambiente.gov.it/it/attivita/museo/calendario-eventi/20
 20/escursione-a-grottadoggi-e-visita-al-mum
END:VEVENT
BEGIN:VTIMEZONE
TZID:Europe/Berlin
X-LIC-LOCATION:Europe/Berlin
BEGIN:DAYLIGHT
DTSTART;VALUE=DATE-TIME:20200329T030000
TZNAME:CEST
TZOFFSETFROM:+0100
TZOFFSETTO:+0200
END:DAYLIGHT
BEGIN:STANDARD
DTSTART;VALUE=DATE-TIME:20201025T020000
TZNAME:CET
TZOFFSETFROM:+0200
TZOFFSETTO:+0100
END:STANDARD
END:VTIMEZONE
END:VCALENDAR
