BEGIN:VCALENDAR
VERSION:2.0
PRODID:-//Plone.org//NONSGML plone.app.event//EN
X-WR-TIMEZONE:Europe/Berlin
BEGIN:VEVENT
SUMMARY:ESPOSIZIONE INTERNAZIONALE DI MINERALI E FOSSILI
DTSTART;TZID=Europe/Berlin;VALUE=DATE-TIME:20230112T160000
DTEND;TZID=Europe/Berlin;VALUE=DATE-TIME:20230112T170000
DTSTAMP;VALUE=DATE-TIME:20260419T234536Z
UID:a0d7accb6f73482593c87d2b1418523f@www.isprambiente.gov.it
CREATED;VALUE=DATE-TIME:20200402T154126Z
LAST-MODIFIED;VALUE=DATE-TIME:20230120T133405Z
LOCATION:Germania
URL:https://www.isprambiente.gov.it/it/attivita/museo/calendario-eventi/20
 20/esposizione-internazionale-di-minerali-e-fossili
END:VEVENT
BEGIN:VTIMEZONE
TZID:Europe/Berlin
X-LIC-LOCATION:Europe/Berlin
BEGIN:STANDARD
DTSTART;VALUE=DATE-TIME:20221030T020000
TZNAME:CET
TZOFFSETFROM:+0200
TZOFFSETTO:+0100
END:STANDARD
END:VTIMEZONE
END:VCALENDAR
