BEGIN:VCALENDAR
VERSION:2.0
PRODID:-//Plone.org//NONSGML plone.app.event//EN
X-WR-TIMEZONE:Europe/Berlin
BEGIN:VEVENT
SUMMARY:EVOLUZIONE GEOLOGICA DEL BRAIDESE – UNA STORIA LUNGA 6 MILIONI D
 I ANNI
DTSTART;TZID=Europe/Berlin;VALUE=DATE-TIME:20201004T090000
DTEND;TZID=Europe/Berlin;VALUE=DATE-TIME:20201004T100000
DTSTAMP;VALUE=DATE-TIME:20260419T221807Z
UID:5c47727172c9426ba79f545989c262c1@www.isprambiente.gov.it
CONTACT:https://www.settimanaterra.org/node/4147
CREATED;VALUE=DATE-TIME:20200930T075834Z
LAST-MODIFIED;VALUE=DATE-TIME:20230120T133415Z
URL:https://www.isprambiente.gov.it/it/attivita/museo/calendario-eventi/20
 20/evoluzione-geologica-del-braidese-2013-una-storia-lunga-6-milioni-di-an
 ni
END:VEVENT
BEGIN:VTIMEZONE
TZID:Europe/Berlin
X-LIC-LOCATION:Europe/Berlin
BEGIN:DAYLIGHT
DTSTART;VALUE=DATE-TIME:20200329T030000
TZNAME:CEST
TZOFFSETFROM:+0100
TZOFFSETTO:+0200
END:DAYLIGHT
END:VTIMEZONE
END:VCALENDAR
