BEGIN:VCALENDAR
VERSION:2.0
PRODID:-//Plone.org//NONSGML plone.app.event//EN
X-WR-TIMEZONE:Europe/Berlin
BEGIN:VEVENT
SUMMARY:Festival della Scienza
DTSTART;TZID=Europe/Berlin;VALUE=DATE-TIME:20201022T110000
DTEND;TZID=Europe/Berlin;VALUE=DATE-TIME:20201101T120000
DTSTAMP;VALUE=DATE-TIME:20260419T202610Z
UID:d5de5ba998c84b6d88c878a75bdd3017@www.isprambiente.gov.it
CONTACT:http://www.festivalscienza.it/site/home.html
CREATED;VALUE=DATE-TIME:20201020T094243Z
LAST-MODIFIED;VALUE=DATE-TIME:20230120T133415Z
URL:https://www.isprambiente.gov.it/it/attivita/museo/calendario-eventi/20
 20/festival-della-scienza-1
END:VEVENT
BEGIN:VTIMEZONE
TZID:Europe/Berlin
X-LIC-LOCATION:Europe/Berlin
BEGIN:DAYLIGHT
DTSTART;VALUE=DATE-TIME:20200329T030000
TZNAME:CEST
TZOFFSETFROM:+0100
TZOFFSETTO:+0200
END:DAYLIGHT
BEGIN:STANDARD
DTSTART;VALUE=DATE-TIME:20201025T020000
TZNAME:CET
TZOFFSETFROM:+0200
TZOFFSETTO:+0100
END:STANDARD
END:VTIMEZONE
END:VCALENDAR
