BEGIN:VCALENDAR
VERSION:2.0
PRODID:-//Plone.org//NONSGML plone.app.event//EN
X-WR-TIMEZONE:Europe/Berlin
BEGIN:VEVENT
SUMMARY:Geronimo Stilton Home Adventure
DTSTART;TZID=Europe/Berlin;VALUE=DATE-TIME:20201220T090000
DTEND;TZID=Europe/Berlin;VALUE=DATE-TIME:20210106T100000
DTSTAMP;VALUE=DATE-TIME:20260419T202624Z
UID:e4ee06b81be54b9f91b3633203a41b6a@www.isprambiente.gov.it
CONTACT:https://www.admaiora.education/it/mostre-ed-eventi/geronimo-stilto
 n-home-adventure
CREATED;VALUE=DATE-TIME:20201221T082535Z
LAST-MODIFIED;VALUE=DATE-TIME:20230120T134356Z
URL:https://www.isprambiente.gov.it/it/attivita/museo/calendario-eventi/20
 20/geronimo-stilton-home-adventure
END:VEVENT
BEGIN:VTIMEZONE
TZID:Europe/Berlin
X-LIC-LOCATION:Europe/Berlin
BEGIN:STANDARD
DTSTART;VALUE=DATE-TIME:20201025T020000
TZNAME:CET
TZOFFSETFROM:+0200
TZOFFSETTO:+0100
END:STANDARD
END:VTIMEZONE
END:VCALENDAR
