BEGIN:VCALENDAR
VERSION:2.0
PRODID:-//Plone.org//NONSGML plone.app.event//EN
X-WR-TIMEZONE:Europe/Berlin
BEGIN:VEVENT
SUMMARY:GIORNATE EUROPEE DEL PATRIMONIO
DTSTART;TZID=Europe/Berlin;VALUE=DATE-TIME:20200926T090000
DTEND;TZID=Europe/Berlin;VALUE=DATE-TIME:20200927T100000
DTSTAMP;VALUE=DATE-TIME:20260419T220758Z
UID:ea03307a544e47fc90f9c9e4397b82dd@www.isprambiente.gov.it
CONTACT:http://www.museoscienzebergamo.it/web/index.php?option=com_content
 &view=article&id=783:giornate-europee-del-patrimonio-26-e-27-settembre-202
 0&catid=110:2020&Itemid=145
CREATED;VALUE=DATE-TIME:20200921T073640Z
LAST-MODIFIED;VALUE=DATE-TIME:20230120T133415Z
URL:https://www.isprambiente.gov.it/it/attivita/museo/calendario-eventi/20
 20/giornate-europee-del-patrimonio
END:VEVENT
BEGIN:VTIMEZONE
TZID:Europe/Berlin
X-LIC-LOCATION:Europe/Berlin
BEGIN:DAYLIGHT
DTSTART;VALUE=DATE-TIME:20200329T030000
TZNAME:CEST
TZOFFSETFROM:+0100
TZOFFSETTO:+0200
END:DAYLIGHT
END:VTIMEZONE
END:VCALENDAR
