BEGIN:VCALENDAR
VERSION:2.0
PRODID:-//Plone.org//NONSGML plone.app.event//EN
X-WR-TIMEZONE:Europe/Berlin
BEGIN:VEVENT
SUMMARY:Grotta del Leone: dallo scavo al Museo
DTSTART;TZID=Europe/Berlin;VALUE=DATE-TIME:20200727T090000
DTEND;TZID=Europe/Berlin;VALUE=DATE-TIME:20200731T100000
DTSTAMP;VALUE=DATE-TIME:20260419T234325Z
UID:c7a1c5acce4646cbb1edffa99f96fa9f@www.isprambiente.gov.it
CONTACT:https://www.msn.unipi.it/it/eventi/grotta-del-leone-dallo-scavo-al
 -museo/
CREATED;VALUE=DATE-TIME:20200727T074005Z
LAST-MODIFIED;VALUE=DATE-TIME:20230120T133415Z
URL:https://www.isprambiente.gov.it/it/attivita/museo/calendario-eventi/20
 20/grotta-del-leone-dallo-scavo-al-museo
END:VEVENT
BEGIN:VTIMEZONE
TZID:Europe/Berlin
X-LIC-LOCATION:Europe/Berlin
BEGIN:DAYLIGHT
DTSTART;VALUE=DATE-TIME:20200329T030000
TZNAME:CEST
TZOFFSETFROM:+0100
TZOFFSETTO:+0200
END:DAYLIGHT
END:VTIMEZONE
END:VCALENDAR
