BEGIN:VCALENDAR
VERSION:2.0
PRODID:-//Plone.org//NONSGML plone.app.event//EN
X-WR-TIMEZONE:Europe/Berlin
BEGIN:VEVENT
SUMMARY: Grotta del Leone e la preistoria sul Monte Pisano. Scavo\, ricerc
 a e valorizzazione
DTSTART;TZID=Europe/Berlin;VALUE=DATE-TIME:20200125T111500
DTEND;TZID=Europe/Berlin;VALUE=DATE-TIME:20200125T111500
DTSTAMP;VALUE=DATE-TIME:20260419T234625Z
UID:437aa9d5fb75427084671faf7367e519@www.isprambiente.gov.it
CREATED;VALUE=DATE-TIME:20200120T121610Z
LAST-MODIFIED;VALUE=DATE-TIME:20230120T133405Z
URL:https://www.isprambiente.gov.it/it/attivita/museo/calendario-eventi/20
 20/grotta-del-leone-e-la-preistoria-sul-monte-pisano.-scavo-ricerca-e-valo
 rizzazione
END:VEVENT
BEGIN:VTIMEZONE
TZID:Europe/Berlin
X-LIC-LOCATION:Europe/Berlin
BEGIN:STANDARD
DTSTART;VALUE=DATE-TIME:20191027T020000
TZNAME:CET
TZOFFSETFROM:+0200
TZOFFSETTO:+0100
END:STANDARD
END:VTIMEZONE
END:VCALENDAR
