BEGIN:VCALENDAR
VERSION:2.0
PRODID:-//Plone.org//NONSGML plone.app.event//EN
X-WR-TIMEZONE:Europe/Berlin
BEGIN:VEVENT
SUMMARY:Grotte di Pastena e Collepardo - Il cartellone d'estate 2020
DTSTART;TZID=Europe/Berlin;VALUE=DATE-TIME:20200809T180000
DTEND;TZID=Europe/Berlin;VALUE=DATE-TIME:20200830T190000
DTSTAMP;VALUE=DATE-TIME:20260419T234516Z
UID:445d928aabaf42cb8c62128611fc29ef@www.isprambiente.gov.it
CONTACT:http://www.grottepastenacollepardo.it/grotte-di-pastena-il-cartell
 one-dellestate-fino-al-30-agosto
CREATED;VALUE=DATE-TIME:20200809T165332Z
LAST-MODIFIED;VALUE=DATE-TIME:20230120T133415Z
URL:https://www.isprambiente.gov.it/it/attivita/museo/calendario-eventi/20
 20/grotte-di-pastena-e-collepardo-il-cartellone-destate-2020
END:VEVENT
BEGIN:VTIMEZONE
TZID:Europe/Berlin
X-LIC-LOCATION:Europe/Berlin
BEGIN:DAYLIGHT
DTSTART;VALUE=DATE-TIME:20200329T030000
TZNAME:CEST
TZOFFSETFROM:+0100
TZOFFSETTO:+0200
END:DAYLIGHT
END:VTIMEZONE
END:VCALENDAR
