BEGIN:VCALENDAR
VERSION:2.0
PRODID:-//Plone.org//NONSGML plone.app.event//EN
X-WR-TIMEZONE:Europe/Berlin
BEGIN:VEVENT
SUMMARY:Halloween al Museo
DTSTART;TZID=Europe/Berlin;VALUE=DATE-TIME:20201031T110000
DTEND;TZID=Europe/Berlin;VALUE=DATE-TIME:20201031T120000
DTSTAMP;VALUE=DATE-TIME:20260419T202625Z
UID:53b4a63ed0644678a325daa9352d29eb@www.isprambiente.gov.it
CONTACT:http://www.museomontebelluna.it/it/museo-per-tutti/bambini-e-ragaz
 zi/halloween-al-museo-31-ottobre-2020
CREATED;VALUE=DATE-TIME:20201020T094741Z
LAST-MODIFIED;VALUE=DATE-TIME:20230120T133415Z
URL:https://www.isprambiente.gov.it/it/attivita/museo/calendario-eventi/20
 20/halloween-al-museo
END:VEVENT
BEGIN:VTIMEZONE
TZID:Europe/Berlin
X-LIC-LOCATION:Europe/Berlin
BEGIN:STANDARD
DTSTART;VALUE=DATE-TIME:20201025T020000
TZNAME:CET
TZOFFSETFROM:+0200
TZOFFSETTO:+0100
END:STANDARD
END:VTIMEZONE
END:VCALENDAR
