BEGIN:VCALENDAR
VERSION:2.0
PRODID:-//Plone.org//NONSGML plone.app.event//EN
X-WR-TIMEZONE:Europe/Berlin
BEGIN:VEVENT
SUMMARY:HALLOWEEN IN MINIERA
DTSTART;TZID=Europe/Berlin;VALUE=DATE-TIME:20201031T100000
DTEND;TZID=Europe/Berlin;VALUE=DATE-TIME:20201031T110000
DTSTAMP;VALUE=DATE-TIME:20260419T215927Z
UID:db2ca0a39436475bbe993bd9bf1759f8@www.isprambiente.gov.it
CONTACT:http://www.ecomuseominiere.it/eventi/halloween-in-miniera/
CREATED;VALUE=DATE-TIME:20201028T090313Z
LAST-MODIFIED;VALUE=DATE-TIME:20230120T134345Z
URL:https://www.isprambiente.gov.it/it/attivita/museo/calendario-eventi/20
 20/halloween-in-miniera-1
END:VEVENT
BEGIN:VTIMEZONE
TZID:Europe/Berlin
X-LIC-LOCATION:Europe/Berlin
BEGIN:STANDARD
DTSTART;VALUE=DATE-TIME:20201025T020000
TZNAME:CET
TZOFFSETFROM:+0200
TZOFFSETTO:+0100
END:STANDARD
END:VTIMEZONE
END:VCALENDAR
