BEGIN:VCALENDAR
VERSION:2.0
PRODID:-//Plone.org//NONSGML plone.app.event//EN
X-WR-TIMEZONE:Europe/Berlin
BEGIN:VEVENT
SUMMARY:Halloween in miniera
DTSTART;TZID=Europe/Berlin;VALUE=DATE-TIME:20201031T090000
DTEND;TZID=Europe/Berlin;VALUE=DATE-TIME:20201031T100000
DTSTAMP;VALUE=DATE-TIME:20260419T233709Z
UID:48b48baf00b642f789ff56dca10b6e82@www.isprambiente.gov.it
CONTACT:https://www.miniereinvaltrompia.com/halloween
CREATED;VALUE=DATE-TIME:20201028T090119Z
LAST-MODIFIED;VALUE=DATE-TIME:20230120T133416Z
URL:https://www.isprambiente.gov.it/it/attivita/museo/calendario-eventi/20
 20/halloween-in-miniera
END:VEVENT
BEGIN:VTIMEZONE
TZID:Europe/Berlin
X-LIC-LOCATION:Europe/Berlin
BEGIN:STANDARD
DTSTART;VALUE=DATE-TIME:20201025T020000
TZNAME:CET
TZOFFSETFROM:+0200
TZOFFSETTO:+0100
END:STANDARD
END:VTIMEZONE
END:VCALENDAR
