BEGIN:VCALENDAR
VERSION:2.0
PRODID:-//Plone.org//NONSGML plone.app.event//EN
X-WR-TIMEZONE:Europe/Berlin
BEGIN:VEVENT
SUMMARY:Harry Potter sbarca alla miniera di Gambatesa
DTSTART;TZID=Europe/Berlin;VALUE=DATE-TIME:20200809T180000
DTEND;TZID=Europe/Berlin;VALUE=DATE-TIME:20200826T190000
DTSTAMP;VALUE=DATE-TIME:20260419T221625Z
UID:ba2fce9b069444cf80f218f626a62a43@www.isprambiente.gov.it
CONTACT:https://www.familygo.eu/vacanze-con-bambini/eventi/liguria/harry-p
 otter-miniera-gambatesa/
CREATED;VALUE=DATE-TIME:20200809T165857Z
LAST-MODIFIED;VALUE=DATE-TIME:20230120T133415Z
URL:https://www.isprambiente.gov.it/it/attivita/museo/calendario-eventi/20
 20/harry-potter-sbarca-alla-miniera-di-gambatesa
END:VEVENT
BEGIN:VTIMEZONE
TZID:Europe/Berlin
X-LIC-LOCATION:Europe/Berlin
BEGIN:DAYLIGHT
DTSTART;VALUE=DATE-TIME:20200329T030000
TZNAME:CEST
TZOFFSETFROM:+0100
TZOFFSETTO:+0200
END:DAYLIGHT
END:VTIMEZONE
END:VCALENDAR
