BEGIN:VCALENDAR
VERSION:2.0
PRODID:-//Plone.org//NONSGML plone.app.event//EN
X-WR-TIMEZONE:Europe/Berlin
BEGIN:VEVENT
SUMMARY:I CALANCHI DI MONTALBANO JONICO: UN PAESAGGIO LUNARE DA VISITARE E
  TUTELARE
DTSTART;TZID=Europe/Berlin;VALUE=DATE-TIME:20201009T090000
DTEND;TZID=Europe/Berlin;VALUE=DATE-TIME:20201009T100000
DTSTAMP;VALUE=DATE-TIME:20260419T221807Z
UID:01576eb7d37649ad8e3c854e1641f45d@www.isprambiente.gov.it
CONTACT:https://www.settimanaterra.org/node/4196
CREATED;VALUE=DATE-TIME:20200930T074227Z
LAST-MODIFIED;VALUE=DATE-TIME:20230120T133415Z
URL:https://www.isprambiente.gov.it/it/attivita/museo/calendario-eventi/20
 20/i-calanchi-di-montalbano-jonico-un-paesaggio-lunare-da-visitare-e-tutel
 are
END:VEVENT
BEGIN:VTIMEZONE
TZID:Europe/Berlin
X-LIC-LOCATION:Europe/Berlin
BEGIN:DAYLIGHT
DTSTART;VALUE=DATE-TIME:20200329T030000
TZNAME:CEST
TZOFFSETFROM:+0100
TZOFFSETTO:+0200
END:DAYLIGHT
END:VTIMEZONE
END:VCALENDAR
