BEGIN:VCALENDAR
VERSION:2.0
PRODID:-//Plone.org//NONSGML plone.app.event//EN
X-WR-TIMEZONE:Europe/Berlin
BEGIN:VEVENT
SUMMARY:I fossili di Bolca: una finestra sugli ecosistemi tropicali di 50 
 milioni di anni fa
DTSTART;TZID=Europe/Berlin;VALUE=DATE-TIME:20200522T110000
DTEND;TZID=Europe/Berlin;VALUE=DATE-TIME:20200522T120000
DTSTAMP;VALUE=DATE-TIME:20260419T221824Z
UID:733b763e6cad492597297edb52910c02@www.isprambiente.gov.it
CONTACT:https://www.dst.unito.it/do/avvisi.pl/Show?_id=perd
CREATED;VALUE=DATE-TIME:20200518T093228Z
LAST-MODIFIED;VALUE=DATE-TIME:20230120T133405Z
URL:https://www.isprambiente.gov.it/it/attivita/museo/calendario-eventi/20
 20/i-fossili-di-bolca-una-finestra-sugli-ecosistemi-tropicali-di-50-milion
 i-di-anni-fa
END:VEVENT
BEGIN:VTIMEZONE
TZID:Europe/Berlin
X-LIC-LOCATION:Europe/Berlin
BEGIN:DAYLIGHT
DTSTART;VALUE=DATE-TIME:20200329T030000
TZNAME:CEST
TZOFFSETFROM:+0100
TZOFFSETTO:+0200
END:DAYLIGHT
END:VTIMEZONE
END:VCALENDAR
