BEGIN:VCALENDAR
VERSION:2.0
PRODID:-//Plone.org//NONSGML plone.app.event//EN
X-WR-TIMEZONE:Europe/Berlin
BEGIN:VEVENT
SUMMARY:I giovedì dell'Astronomia 2020
DTSTART;TZID=Europe/Berlin;VALUE=DATE-TIME:20201105T090000
DTEND;TZID=Europe/Berlin;VALUE=DATE-TIME:20201126T100000
DTSTAMP;VALUE=DATE-TIME:20260419T215904Z
UID:e943715a3c4b40f8bf6ba45f1776b194@www.isprambiente.gov.it
CONTACT:http://www.anms.it/eventi/dettaglio_evento/4567
CREATED;VALUE=DATE-TIME:20201109T084514Z
LAST-MODIFIED;VALUE=DATE-TIME:20230120T134356Z
URL:https://www.isprambiente.gov.it/it/attivita/museo/calendario-eventi/20
 20/i-giovedi-dellastronomia-2020
END:VEVENT
BEGIN:VTIMEZONE
TZID:Europe/Berlin
X-LIC-LOCATION:Europe/Berlin
BEGIN:STANDARD
DTSTART;VALUE=DATE-TIME:20201025T020000
TZNAME:CET
TZOFFSETFROM:+0200
TZOFFSETTO:+0100
END:STANDARD
END:VTIMEZONE
END:VCALENDAR
