BEGIN:VCALENDAR
VERSION:2.0
PRODID:-//Plone.org//NONSGML plone.app.event//EN
X-WR-TIMEZONE:Europe/Berlin
BEGIN:VEVENT
SUMMARY:Il Museo Galileo. Un’incredibile avventura
DTSTART;TZID=Europe/Berlin;VALUE=DATE-TIME:20201103T090000
DTEND;TZID=Europe/Berlin;VALUE=DATE-TIME:20210425T100000
DTSTAMP;VALUE=DATE-TIME:20260419T234428Z
UID:12276a21e71c40d192c78237125b6fd0@www.isprambiente.gov.it
CONTACT:https://www.museogalileo.it/it/eventi-e-news/2016-domenica-al-muse
 o-galileo-un-incredibile-avventura.html
CREATED;VALUE=DATE-TIME:20201103T085006Z
LAST-MODIFIED;VALUE=DATE-TIME:20230120T134356Z
URL:https://www.isprambiente.gov.it/it/attivita/museo/calendario-eventi/20
 20/il-museo-galileo-un2019incredibile-avventura
END:VEVENT
BEGIN:VTIMEZONE
TZID:Europe/Berlin
X-LIC-LOCATION:Europe/Berlin
BEGIN:STANDARD
DTSTART;VALUE=DATE-TIME:20201025T020000
TZNAME:CET
TZOFFSETFROM:+0200
TZOFFSETTO:+0100
END:STANDARD
BEGIN:DAYLIGHT
DTSTART;VALUE=DATE-TIME:20210328T030000
TZNAME:CEST
TZOFFSETFROM:+0100
TZOFFSETTO:+0200
END:DAYLIGHT
END:VTIMEZONE
END:VCALENDAR
