BEGIN:VCALENDAR
VERSION:2.0
PRODID:-//Plone.org//NONSGML plone.app.event//EN
X-WR-TIMEZONE:Europe/Berlin
BEGIN:VEVENT
SUMMARY:IL PARCO DEI FOSSILI E GLI SCAVI PALEONTOLOGICI
DTSTART;TZID=Europe/Berlin;VALUE=DATE-TIME:20201011T100000
DTEND;TZID=Europe/Berlin;VALUE=DATE-TIME:20201011T110000
DTSTAMP;VALUE=DATE-TIME:20260419T220104Z
UID:3184e8cc437a4178928e5e4f13b278a1@www.isprambiente.gov.it
CONTACT:https://www.settimanaterra.org/node/4106
CREATED;VALUE=DATE-TIME:20200930T080625Z
LAST-MODIFIED;VALUE=DATE-TIME:20230120T133415Z
URL:https://www.isprambiente.gov.it/it/attivita/museo/calendario-eventi/20
 20/il-parco-dei-fossili-e-gli-scavi-paleontologici
END:VEVENT
BEGIN:VTIMEZONE
TZID:Europe/Berlin
X-LIC-LOCATION:Europe/Berlin
BEGIN:DAYLIGHT
DTSTART;VALUE=DATE-TIME:20200329T030000
TZNAME:CEST
TZOFFSETFROM:+0100
TZOFFSETTO:+0200
END:DAYLIGHT
END:VTIMEZONE
END:VCALENDAR
