BEGIN:VCALENDAR
VERSION:2.0
PRODID:-//Plone.org//NONSGML plone.app.event//EN
X-WR-TIMEZONE:Europe/Berlin
BEGIN:VEVENT
SUMMARY:Il ritorno dei dinosauri all’Oasi di Macchiagrande
DTSTART;TZID=Europe/Berlin;VALUE=DATE-TIME:20200525T080000
DTEND;TZID=Europe/Berlin;VALUE=DATE-TIME:20200525T090000
DTSTAMP;VALUE=DATE-TIME:20260419T220309Z
UID:9c5c0af3fcde46f18324f8a15b9ce178@www.isprambiente.gov.it
CONTACT:https://www.fregeneonline.com/il-ritorno-dei-dinosauri-alloasi-di-
 macchiagrande-dal-23-maggio/
CREATED;VALUE=DATE-TIME:20200525T062255Z
LAST-MODIFIED;VALUE=DATE-TIME:20230120T133405Z
URL:https://www.isprambiente.gov.it/it/attivita/museo/calendario-eventi/20
 20/il-ritorno-dei-dinosauri-all2019oasi-di-macchiagrande
END:VEVENT
BEGIN:VTIMEZONE
TZID:Europe/Berlin
X-LIC-LOCATION:Europe/Berlin
BEGIN:DAYLIGHT
DTSTART;VALUE=DATE-TIME:20200329T030000
TZNAME:CEST
TZOFFSETFROM:+0100
TZOFFSETTO:+0200
END:DAYLIGHT
END:VTIMEZONE
END:VCALENDAR
