BEGIN:VCALENDAR
VERSION:2.0
PRODID:-//Plone.org//NONSGML plone.app.event//EN
X-WR-TIMEZONE:Europe/Berlin
BEGIN:VEVENT
SUMMARY:IL SENTIERO DELLE "GOLE DEL PLATANO" INTRECCIO DI NATURA\, STORIA 
 E CULTURA
DTSTART;TZID=Europe/Berlin;VALUE=DATE-TIME:20201008T090000
DTEND;TZID=Europe/Berlin;VALUE=DATE-TIME:20201008T100000
DTSTAMP;VALUE=DATE-TIME:20260419T221820Z
UID:ea34b0ab32484fb2ac0e4ae25abf7592@www.isprambiente.gov.it
CONTACT:https://www.settimanaterra.org/node/4198
CREATED;VALUE=DATE-TIME:20200930T074100Z
LAST-MODIFIED;VALUE=DATE-TIME:20230120T133415Z
URL:https://www.isprambiente.gov.it/it/attivita/museo/calendario-eventi/20
 20/il-sentiero-delle-gole-del-platano-intreccio-di-natura-storia-e-cultura
END:VEVENT
BEGIN:VTIMEZONE
TZID:Europe/Berlin
X-LIC-LOCATION:Europe/Berlin
BEGIN:DAYLIGHT
DTSTART;VALUE=DATE-TIME:20200329T030000
TZNAME:CEST
TZOFFSETFROM:+0100
TZOFFSETTO:+0200
END:DAYLIGHT
END:VTIMEZONE
END:VCALENDAR
