BEGIN:VCALENDAR
VERSION:2.0
PRODID:-//Plone.org//NONSGML plone.app.event//EN
X-WR-TIMEZONE:Europe/Berlin
BEGIN:VEVENT
SUMMARY:Importanza dei giacimenti minerari nel mondomoderno. Esempi di stu
 dio su differenti depositiminerari dal mondo\, implicazioni e applicazioni
 :caratterizzazione geochimica\, morfologico-tessituralee mineralogica
DTSTART;TZID=Europe/Berlin;VALUE=DATE-TIME:20200116T084000
DTEND;TZID=Europe/Berlin;VALUE=DATE-TIME:20200116T084000
DTSTAMP;VALUE=DATE-TIME:20260419T221930Z
UID:b575d0e30ba743b4b85107d17980eaba@www.isprambiente.gov.it
CREATED;VALUE=DATE-TIME:20200116T094110Z
LAST-MODIFIED;VALUE=DATE-TIME:20230120T133405Z
URL:https://www.isprambiente.gov.it/it/attivita/museo/calendario-eventi/20
 20/importanza-dei-giacimenti-minerari-nel-mondomoderno.-esempi-di-studio-s
 u-differenti-depositiminerari-dal-mondo-implicazioni-e-applicazioni-caratt
 erizzazione-geochimica-morfologico-tessituralee-mineralogica
END:VEVENT
BEGIN:VTIMEZONE
TZID:Europe/Berlin
X-LIC-LOCATION:Europe/Berlin
BEGIN:STANDARD
DTSTART;VALUE=DATE-TIME:20191027T020000
TZNAME:CET
TZOFFSETFROM:+0200
TZOFFSETTO:+0100
END:STANDARD
END:VTIMEZONE
END:VCALENDAR
