BEGIN:VCALENDAR
VERSION:2.0
PRODID:-//Plone.org//NONSGML plone.app.event//EN
X-WR-TIMEZONE:Europe/Berlin
BEGIN:VEVENT
SUMMARY: Inaugurato a Predazzo il Baby Pit Stop dell'UNICEF
DTSTART;TZID=Europe/Berlin;VALUE=DATE-TIME:20230112T160000
DTEND;TZID=Europe/Berlin;VALUE=DATE-TIME:20230112T170000
DTSTAMP;VALUE=DATE-TIME:20260419T234428Z
UID:b7b581cf086c491abe57ed1122b3996d@www.isprambiente.gov.it
CREATED;VALUE=DATE-TIME:20200302T105612Z
LAST-MODIFIED;VALUE=DATE-TIME:20230120T133405Z
URL:https://www.isprambiente.gov.it/it/attivita/museo/calendario-eventi/20
 20/inaugurato-a-predazzo-il-baby-pit-stop-dellunicef
END:VEVENT
BEGIN:VTIMEZONE
TZID:Europe/Berlin
X-LIC-LOCATION:Europe/Berlin
BEGIN:STANDARD
DTSTART;VALUE=DATE-TIME:20221030T020000
TZNAME:CET
TZOFFSETFROM:+0200
TZOFFSETTO:+0100
END:STANDARD
END:VTIMEZONE
END:VCALENDAR
