BEGIN:VCALENDAR
VERSION:2.0
PRODID:-//Plone.org//NONSGML plone.app.event//EN
X-WR-TIMEZONE:Europe/Berlin
BEGIN:VEVENT
SUMMARY:INDAGINI DEL MANTELLO TERRESTRE ATTRAVERSO LO STUDIO DI ROCCE\, MI
 NERALI\, DIAMANTI
DTSTART;TZID=Europe/Berlin;VALUE=DATE-TIME:20230112T160000
DTEND;TZID=Europe/Berlin;VALUE=DATE-TIME:20230112T170000
DTSTAMP;VALUE=DATE-TIME:20260419T221030Z
UID:6d8a3154f7344a7bb463bfa77469c94c@www.isprambiente.gov.it
CREATED;VALUE=DATE-TIME:20200224T112234Z
LAST-MODIFIED;VALUE=DATE-TIME:20230120T133405Z
URL:https://www.isprambiente.gov.it/it/attivita/museo/calendario-eventi/20
 20/indagini-del-mantello-terrestre-attraverso-lo-studio-di-rocce-minerali-
 diamanti
END:VEVENT
BEGIN:VTIMEZONE
TZID:Europe/Berlin
X-LIC-LOCATION:Europe/Berlin
BEGIN:STANDARD
DTSTART;VALUE=DATE-TIME:20221030T020000
TZNAME:CET
TZOFFSETFROM:+0200
TZOFFSETTO:+0100
END:STANDARD
END:VTIMEZONE
END:VCALENDAR
