BEGIN:VCALENDAR
VERSION:2.0
PRODID:-//Plone.org//NONSGML plone.app.event//EN
X-WR-TIMEZONE:Europe/Berlin
BEGIN:VEVENT
SUMMARY:Insieme verso nuove rotte
DTSTART;TZID=Europe/Berlin;VALUE=DATE-TIME:20200602T080000
DTEND;TZID=Europe/Berlin;VALUE=DATE-TIME:20200602T090000
DTSTAMP;VALUE=DATE-TIME:20260419T220003Z
UID:b006bd906ed04155831aa9c6317b4911@www.isprambiente.gov.it
CONTACT:https://www.muse.it/it/Pagine/default.aspx
CREATED;VALUE=DATE-TIME:20200525T061305Z
LAST-MODIFIED;VALUE=DATE-TIME:20230120T133405Z
URL:https://www.isprambiente.gov.it/it/attivita/museo/calendario-eventi/20
 20/insieme-verso-nuove-rotte
END:VEVENT
BEGIN:VTIMEZONE
TZID:Europe/Berlin
X-LIC-LOCATION:Europe/Berlin
BEGIN:DAYLIGHT
DTSTART;VALUE=DATE-TIME:20200329T030000
TZNAME:CEST
TZOFFSETFROM:+0100
TZOFFSETTO:+0200
END:DAYLIGHT
END:VTIMEZONE
END:VCALENDAR
