BEGIN:VCALENDAR
VERSION:2.0
PRODID:-//Plone.org//NONSGML plone.app.event//EN
X-WR-TIMEZONE:Europe/Berlin
BEGIN:VEVENT
SUMMARY:International Virtual Workshop on "CRM Innovation Frontiers”
DTSTART;TZID=Europe/Berlin;VALUE=DATE-TIME:20201210T110000
DTEND;TZID=Europe/Berlin;VALUE=DATE-TIME:20201211T120000
DTSTAMP;VALUE=DATE-TIME:20260419T215905Z
UID:8ae08a6ecf8b43ef9744029f9ee43454@www.isprambiente.gov.it
CONTACT:https://www.enea.it/it/seguici/events/crsi_dec2020/international-v
 irtual-workshop-on-crm-innovation-frontiers201d
CREATED;VALUE=DATE-TIME:20201203T103758Z
LAST-MODIFIED;VALUE=DATE-TIME:20230120T134356Z
URL:https://www.isprambiente.gov.it/it/attivita/museo/calendario-eventi/20
 20/international-virtual-workshop-on-crm-innovation-frontiers201d
END:VEVENT
BEGIN:VTIMEZONE
TZID:Europe/Berlin
X-LIC-LOCATION:Europe/Berlin
BEGIN:STANDARD
DTSTART;VALUE=DATE-TIME:20201025T020000
TZNAME:CET
TZOFFSETFROM:+0200
TZOFFSETTO:+0100
END:STANDARD
END:VTIMEZONE
END:VCALENDAR
