BEGIN:VCALENDAR
VERSION:2.0
PRODID:-//Plone.org//NONSGML plone.app.event//EN
X-WR-TIMEZONE:Europe/Berlin
BEGIN:VEVENT
SUMMARY:LA BADIA DI TIGLIETO FRA ARCHITETTURA E GEOLOGIA
DTSTART;TZID=Europe/Berlin;VALUE=DATE-TIME:20201010T090000
DTEND;TZID=Europe/Berlin;VALUE=DATE-TIME:20201010T100000
DTSTAMP;VALUE=DATE-TIME:20260419T221807Z
UID:17786af9aed744d88a0668eaab3e72d5@www.isprambiente.gov.it
CONTACT:https://www.settimanaterra.org/node/4174
CREATED;VALUE=DATE-TIME:20200930T074749Z
LAST-MODIFIED;VALUE=DATE-TIME:20230120T133415Z
URL:https://www.isprambiente.gov.it/it/attivita/museo/calendario-eventi/20
 20/la-badia-di-tiglieto-fra-architettura-e-geologia
END:VEVENT
BEGIN:VTIMEZONE
TZID:Europe/Berlin
X-LIC-LOCATION:Europe/Berlin
BEGIN:DAYLIGHT
DTSTART;VALUE=DATE-TIME:20200329T030000
TZNAME:CEST
TZOFFSETFROM:+0100
TZOFFSETTO:+0200
END:DAYLIGHT
END:VTIMEZONE
END:VCALENDAR
