BEGIN:VCALENDAR
VERSION:2.0
PRODID:-//Plone.org//NONSGML plone.app.event//EN
X-WR-TIMEZONE:Europe/Berlin
BEGIN:VEVENT
SUMMARY:La miniera al chiar di luna: cena e visita guidata in notturna
DTSTART;TZID=Europe/Berlin;VALUE=DATE-TIME:20200717T100000
DTEND;TZID=Europe/Berlin;VALUE=DATE-TIME:20200911T110000
DTSTAMP;VALUE=DATE-TIME:20260419T221719Z
UID:8947f1c733ae45fd81f3a677dc0246b7@www.isprambiente.gov.it
CONTACT:https://www.museodelleminieremontecatini.it/2020/07/07/la-miniera-
 al-chiar-di-luna-cena-e-visita-guidata-in-notturna/
CREATED;VALUE=DATE-TIME:20200803T082327Z
LAST-MODIFIED;VALUE=DATE-TIME:20230120T133415Z
URL:https://www.isprambiente.gov.it/it/attivita/museo/calendario-eventi/20
 20/la-miniera-al-chiar-di-luna-cena-e-visita-guidata-in-notturna
END:VEVENT
BEGIN:VTIMEZONE
TZID:Europe/Berlin
X-LIC-LOCATION:Europe/Berlin
BEGIN:DAYLIGHT
DTSTART;VALUE=DATE-TIME:20200329T030000
TZNAME:CEST
TZOFFSETFROM:+0100
TZOFFSETTO:+0200
END:DAYLIGHT
END:VTIMEZONE
END:VCALENDAR
